BEGIN:VCALENDAR
VERSION:2.0
METHOD:PUBLISH
X-WR-CALNAME:Jász Napló |  június 20 2010- június 20 2010
PRODID:-//strange bird labs//Drupal iCal API//EN
BEGIN:VEVENT
DTSTAMP;VALUE=DATE-TIME:20260420T122615Z
DTSTART;VALUE=DATE-TIME:20100617T230000Z
DTEND;VALUE=DATE-TIME:20020203
UID:http://jasznaplo.hu/jaszsag-festoje-gecse-arpad-1900-1999
URL;VALUE=URI:http://jasznaplo.hu/jaszsag-festoje-gecse-arpad-1900-1999
SUMMARY:A Jászság Festője\: Gecse Árpád (1900-1999)
DESCRIPTION:<p>A Hamza Gyűjtemény és Jász Galéria a jászberényi Jászkürt Fogadóban (Déryné u. 6.) rendezte meg a Jászság Festőjeként számon tartott Gecse Árpád mintegy 60 művet bemutató kiállítását. A tárlat anyagát köz- és magángyűjteményekből válogatták.<br />
 A Hamza Múzeum és Jász Galéria Közalapítvány kiadásában megjelent Gecse Árpád élete és művészete című monográfia a helyszínen és a múzeumban is megvásárolható.</p>
 <p>A kiállítás megtekinthető július 3-ig\, hétköznapokon 10-17 óráig\, szombatonként 10-13 óráig.</p>
 <p>Bővebb információ\:<br />
 Hamza Gyűjtemény és Jász Galéria<br />
 Jászberény\, Gyöngyösi út 7. Pf. 76.<br />
 T/F\: 57/503-260<br />
 <a href=\\"http\://www.hamzamuzeum.hu\\" title=\\"www.hamzamuzeum.hu\\" rel=\\"nofollow\\">www.hamzamuzeum.hu</a></p>
 
END:VEVENT
BEGIN:VEVENT
DTSTAMP;VALUE=DATE-TIME:20260420T122615Z
DTSTART;VALUE=DATE-TIME:20100619T170000Z
DTEND;VALUE=DATE-TIME:20100620T000000Z
UID:http://jasznaplo.hu/toltson-egy-ejszakat-jasz-muzeumban
URL;VALUE=URI:http://jasznaplo.hu/toltson-egy-ejszakat-jasz-muzeumban
SUMMARY:Töltsön egy éjszakát a Jász Múzeumban
DESCRIPTION:<p>Töltsön egy éjszakát a Jász Múzeumban<br />
 2010. június 19. (szombat) 18-01 óráig<br />
 (eső esetén az Ifjúsági Házban)<br />
 Műsorok\:<br />
 18.05 – 18.25-ig  Kolontos Palkó – a Kelepelő Bábcsoport előadása<br />
 18.30 – 19.00-ig  Benedek Elek\: A talléros kalap – a Regélő Színjátszó kör előadása<br />
 19.05 – 19.50-ig  Sárkánykönny Dalnok Társulat etnofolk koncertje<br />
 20.00 – 20.10-ig  A süteménykészítő verseny eredményhirdetése<br />
 20.15 – 21.00-ig  A matlaszépongyolától a trapéz nadrágig –<br />
                                   A Jászsági Hagyományőrző Egylet bemutatója<br />
                                   az 1940-es\, ’50-es\, ’60-as évek divatjából<br />
 21.15 – 21.45-ig  Micsoda éjszaka – Pető Edina énekes műsora<br />
 22.00 – 22.45-ig  Egy asszony… A Jászság Népi Együttes műsora<br />
 23.00 – 23.45-ig  Stepp and roll  – A Holdugatók Rock and roll Történeti Tánccsoport műsora</p>
 
END:VEVENT
END:VCALENDAR
